BEGIN:VCALENDAR
VERSION:2.0
PRODID:-//Look Up Center - ECPv6.6.4//NONSGML v1.0//EN
CALSCALE:GREGORIAN
METHOD:PUBLISH
X-WR-CALNAME:Look Up Center
X-ORIGINAL-URL:https://lookupcenter.digitalchurch.app
X-WR-CALDESC:Events for Look Up Center
REFRESH-INTERVAL;VALUE=DURATION:PT1H
X-Robots-Tag:noindex
X-PUBLISHED-TTL:PT1H
BEGIN:VTIMEZONE
TZID:America/New_York
BEGIN:DAYLIGHT
TZOFFSETFROM:-0500
TZOFFSETTO:-0400
TZNAME:EDT
DTSTART:20210314T070000
END:DAYLIGHT
BEGIN:STANDARD
TZOFFSETFROM:-0400
TZOFFSETTO:-0500
TZNAME:EST
DTSTART:20211107T060000
END:STANDARD
END:VTIMEZONE
BEGIN:VEVENT
DTSTART;TZID=America/New_York:20210410T120000
DTEND;TZID=America/New_York:20210410T153000
DTSTAMP:20260420T084945
CREATED:20210318T133619Z
LAST-MODIFIED:20210318T133619Z
UID:10003071-1618056000-1618068600@lookupcenter.digitalchurch.app
SUMMARY:Grandma's Kitchen
DESCRIPTION:http:////www.signupgenius.com/go/9040D4AAFA82AA0FF2-second \nGrab your family and come to Grandma’s Kitchen and learn how to bake Butterscotch cookies from scratch! There are 2 sessions available!  Come bake together!  You will leave with the delicious cookies and a recipe to take home so you can bake them again and again! \n 
URL:https://lookupcenter.digitalchurch.app/event/grandmas-kitchen/
END:VEVENT
END:VCALENDAR