BEGIN:VCALENDAR
VERSION:2.0
PRODID:-//Look Up Center - ECPv6.6.4//NONSGML v1.0//EN
CALSCALE:GREGORIAN
METHOD:PUBLISH
X-ORIGINAL-URL:https://lookupcenter.digitalchurch.app
X-WR-CALDESC:Events for Look Up Center
REFRESH-INTERVAL;VALUE=DURATION:PT1H
X-Robots-Tag:noindex
X-PUBLISHED-TTL:PT1H
BEGIN:VTIMEZONE
TZID:America/New_York
BEGIN:DAYLIGHT
TZOFFSETFROM:-0500
TZOFFSETTO:-0400
TZNAME:EDT
DTSTART:20210314T070000
END:DAYLIGHT
BEGIN:STANDARD
TZOFFSETFROM:-0400
TZOFFSETTO:-0500
TZNAME:EST
DTSTART:20211107T060000
END:STANDARD
END:VTIMEZONE
BEGIN:VEVENT
DTSTART;TZID=America/New_York:20210414T090000
DTEND;TZID=America/New_York:20210414T110000
DTSTAMP:20260420T085036
CREATED:20210318T134412Z
LAST-MODIFIED:20210318T134412Z
UID:10003073-1618390800-1618398000@lookupcenter.digitalchurch.app
SUMMARY:Pre-school PlayDate ages 3-5
DESCRIPTION:http://www.signupgenius.com/go/9040D4AAFA82AA0FF2-preschool \nDo you have kids ages 3-5? Do you need some time alone or need to run some errands? Drop your 3-5 year olds off at the Look Up Center for some fun while you have a few hours to yourself!
URL:https://lookupcenter.digitalchurch.app/event/preschool-playdate-ages-3-5/
END:VEVENT
BEGIN:VEVENT
DTSTART;TZID=America/New_York:20210414T150000
DTEND;TZID=America/New_York:20210414T220000
DTSTAMP:20260420T085036
CREATED:20210318T134938Z
LAST-MODIFIED:20210318T134938Z
UID:10003076-1618412400-1618437600@lookupcenter.digitalchurch.app
SUMMARY:Dine to Donate @ Texas Roadhouse
DESCRIPTION:T-2103-FN-FLY1UP (1)   \n10% Donation Night! Show flyer when you dine in or carry out to support Look Up!
URL:https://lookupcenter.digitalchurch.app/event/dine-to-donate-texas-roadhouse/
ATTACH;FMTTYPE=image/jpeg:https://lookupcenter.digitalchurch.app/wp-content/uploads/sites/113/2021/03/FB_IMG_1618418090487.jpg
END:VEVENT
END:VCALENDAR