BEGIN:VCALENDAR
VERSION:2.0
PRODID:-//Look Up Center - ECPv6.6.4//NONSGML v1.0//EN
CALSCALE:GREGORIAN
METHOD:PUBLISH
X-ORIGINAL-URL:https://lookupcenter.digitalchurch.app
X-WR-CALDESC:Events for Look Up Center
REFRESH-INTERVAL;VALUE=DURATION:PT1H
X-Robots-Tag:noindex
X-PUBLISHED-TTL:PT1H
BEGIN:VTIMEZONE
TZID:America/New_York
BEGIN:DAYLIGHT
TZOFFSETFROM:-0500
TZOFFSETTO:-0400
TZNAME:EDT
DTSTART:20210314T070000
END:DAYLIGHT
BEGIN:STANDARD
TZOFFSETFROM:-0400
TZOFFSETTO:-0500
TZNAME:EST
DTSTART:20211107T060000
END:STANDARD
END:VTIMEZONE
BEGIN:VEVENT
DTSTART;TZID=America/New_York:20210422T183000
DTEND;TZID=America/New_York:20210422T200000
DTSTAMP:20260420T085033
CREATED:20210318T135342Z
LAST-MODIFIED:20210318T135342Z
UID:10003079-1619116200-1619121600@lookupcenter.digitalchurch.app
SUMMARY:Container Gardening
DESCRIPTION:http://www.signupgenius.com/go/9040D4AAFA82AA0FF2-container \nEver wondered how to have an at home container garden? Start the Spring off with some fresh herbs in your home! Come join our Container Garden class and learn how to grow herbs and how to use them in cooking! Learn something new and use your new gardening tips and tricks in your everyday life!
URL:https://lookupcenter.digitalchurch.app/event/container-gardening/
END:VEVENT
END:VCALENDAR