BEGIN:VCALENDAR
VERSION:2.0
PRODID:-//Look Up Center - ECPv6.6.4//NONSGML v1.0//EN
CALSCALE:GREGORIAN
METHOD:PUBLISH
X-ORIGINAL-URL:https://lookupcenter.digitalchurch.app
X-WR-CALDESC:Events for Look Up Center
REFRESH-INTERVAL;VALUE=DURATION:PT1H
X-Robots-Tag:noindex
X-PUBLISHED-TTL:PT1H
BEGIN:VTIMEZONE
TZID:America/New_York
BEGIN:DAYLIGHT
TZOFFSETFROM:-0500
TZOFFSETTO:-0400
TZNAME:EDT
DTSTART:20210314T070000
END:DAYLIGHT
BEGIN:STANDARD
TZOFFSETFROM:-0400
TZOFFSETTO:-0500
TZNAME:EST
DTSTART:20211107T060000
END:STANDARD
END:VTIMEZONE
BEGIN:VEVENT
DTSTART;TZID=America/New_York:20210424T090000
DTEND;TZID=America/New_York:20210424T120000
DTSTAMP:20260420T085035
CREATED:20210318T140256Z
LAST-MODIFIED:20210318T140256Z
UID:10003081-1619254800-1619265600@lookupcenter.digitalchurch.app
SUMMARY:Activity Day ages k-6
DESCRIPTION:
URL:https://lookupcenter.digitalchurch.app/event/activity-day-ages-k-6/
END:VEVENT
END:VCALENDAR