BEGIN:VCALENDAR
VERSION:2.0
PRODID:-//Look Up Center - ECPv6.6.4//NONSGML v1.0//EN
CALSCALE:GREGORIAN
METHOD:PUBLISH
X-WR-CALNAME:Look Up Center
X-ORIGINAL-URL:https://lookupcenter.digitalchurch.app
X-WR-CALDESC:Events for Look Up Center
REFRESH-INTERVAL;VALUE=DURATION:PT1H
X-Robots-Tag:noindex
X-PUBLISHED-TTL:PT1H
BEGIN:VTIMEZONE
TZID:America/New_York
BEGIN:DAYLIGHT
TZOFFSETFROM:-0500
TZOFFSETTO:-0400
TZNAME:EDT
DTSTART:20210314T070000
END:DAYLIGHT
BEGIN:STANDARD
TZOFFSETFROM:-0400
TZOFFSETTO:-0500
TZNAME:EST
DTSTART:20211107T060000
END:STANDARD
END:VTIMEZONE
BEGIN:VEVENT
DTSTART;VALUE=DATE:20210713
DTEND;VALUE=DATE:20210714
DTSTAMP:20260419T195326
CREATED:20210707T135240Z
LAST-MODIFIED:20210707T135240Z
UID:10001742-1626134400-1626220799@lookupcenter.digitalchurch.app
SUMMARY:Urgent Dental Clinic
DESCRIPTION:If you are in need of emergency dental services please call Pathways at 740-345-4357 to verify eligibility and to schedule an appointment.
URL:https://lookupcenter.digitalchurch.app/event/urgent-dental-clinic/
END:VEVENT
BEGIN:VEVENT
DTSTART;TZID=America/New_York:20210713T130000
DTEND;TZID=America/New_York:20210713T143000
DTSTAMP:20260419T195326
CREATED:20210707T125229Z
LAST-MODIFIED:20210707T125229Z
UID:10001730-1626181200-1626186600@lookupcenter.digitalchurch.app
SUMMARY:Girl Scout Summer Program
DESCRIPTION:Girls k-5 will participate in fun and interactive activities that will include learning about Girl Scouts\, building self-esteem\, appreciating others\, hands-on science projects\, and team building.  The program will begin on Tuesday\, July 13th and will be every Tuesday until August 10th. \nEmail stephanie@lookupcenter.org to register \n 
URL:https://lookupcenter.digitalchurch.app/event/girl-scout-summer-program-k-5/2021-07-13/
END:VEVENT
END:VCALENDAR