BEGIN:VCALENDAR
VERSION:2.0
PRODID:-//Look Up Center - ECPv6.6.4//NONSGML v1.0//EN
CALSCALE:GREGORIAN
METHOD:PUBLISH
X-ORIGINAL-URL:https://lookupcenter.digitalchurch.app
X-WR-CALDESC:Events for Look Up Center
REFRESH-INTERVAL;VALUE=DURATION:PT1H
X-Robots-Tag:noindex
X-PUBLISHED-TTL:PT1H
BEGIN:VTIMEZONE
TZID:America/New_York
BEGIN:DAYLIGHT
TZOFFSETFROM:-0500
TZOFFSETTO:-0400
TZNAME:EDT
DTSTART:20210314T070000
END:DAYLIGHT
BEGIN:STANDARD
TZOFFSETFROM:-0400
TZOFFSETTO:-0500
TZNAME:EST
DTSTART:20211107T060000
END:STANDARD
END:VTIMEZONE
BEGIN:VEVENT
DTSTART;TZID=America/New_York:20210803T130000
DTEND;TZID=America/New_York:20210803T143000
DTSTAMP:20260419T164056
CREATED:20210707T125229Z
LAST-MODIFIED:20210707T125229Z
UID:10001733-1627995600-1628001000@lookupcenter.digitalchurch.app
SUMMARY:Girl Scout Summer Program
DESCRIPTION:Girls k-5 will participate in fun and interactive activities that will include learning about Girl Scouts\, building self-esteem\, appreciating others\, hands-on science projects\, and team building.  The program will begin on Tuesday\, July 13th and will be every Tuesday until August 10th. \nEmail stephanie@lookupcenter.org to register \n 
URL:https://lookupcenter.digitalchurch.app/event/girl-scout-summer-program-k-5/2021-08-03/
END:VEVENT
END:VCALENDAR