BEGIN:VCALENDAR
VERSION:2.0
PRODID:-//Look Up Center - ECPv6.6.4//NONSGML v1.0//EN
CALSCALE:GREGORIAN
METHOD:PUBLISH
X-ORIGINAL-URL:https://lookupcenter.digitalchurch.app
X-WR-CALDESC:Events for Look Up Center
REFRESH-INTERVAL;VALUE=DURATION:PT1H
X-Robots-Tag:noindex
X-PUBLISHED-TTL:PT1H
BEGIN:VTIMEZONE
TZID:America/New_York
BEGIN:DAYLIGHT
TZOFFSETFROM:-0500
TZOFFSETTO:-0400
TZNAME:EDT
DTSTART:20210314T070000
END:DAYLIGHT
BEGIN:STANDARD
TZOFFSETFROM:-0400
TZOFFSETTO:-0500
TZNAME:EST
DTSTART:20211107T060000
END:STANDARD
END:VTIMEZONE
BEGIN:VEVENT
DTSTART;TZID=America/New_York:20210810T130000
DTEND;TZID=America/New_York:20210810T143000
DTSTAMP:20260419T164058
CREATED:20210707T125229Z
LAST-MODIFIED:20210707T125229Z
UID:10001734-1628600400-1628605800@lookupcenter.digitalchurch.app
SUMMARY:Girl Scout Summer Program
DESCRIPTION:Girls k-5 will participate in fun and interactive activities that will include learning about Girl Scouts\, building self-esteem\, appreciating others\, hands-on science projects\, and team building.  The program will begin on Tuesday\, July 13th and will be every Tuesday until August 10th. \nEmail stephanie@lookupcenter.org to register \n 
URL:https://lookupcenter.digitalchurch.app/event/girl-scout-summer-program-k-5/2021-08-10/
END:VEVENT
BEGIN:VEVENT
DTSTART;TZID=America/New_York:20210810T163000
DTEND;TZID=America/New_York:20210810T180000
DTSTAMP:20260419T164058
CREATED:20210727T102901Z
LAST-MODIFIED:20210727T102901Z
UID:10003125-1628613000-1628618400@lookupcenter.digitalchurch.app
SUMMARY:Back to School Fair
DESCRIPTION:FUMC hosts a Back to School event.  The first 300 students will receive a backpack with supplies free to help get your school year off to a great start! Free sack supper will also be available. Newark City Schools can turn in requests for uniforms as well. Registration will require Parent/ Guardian name\, proof of address and last four of SSN as well as child’s name\, address and grade.
URL:https://lookupcenter.digitalchurch.app/event/back-to-school-fair/
END:VEVENT
END:VCALENDAR