BEGIN:VCALENDAR
VERSION:2.0
PRODID:-//Look Up Center - ECPv6.6.4//NONSGML v1.0//EN
CALSCALE:GREGORIAN
METHOD:PUBLISH
X-WR-CALNAME:Look Up Center
X-ORIGINAL-URL:https://lookupcenter.digitalchurch.app
X-WR-CALDESC:Events for Look Up Center
REFRESH-INTERVAL;VALUE=DURATION:PT1H
X-Robots-Tag:noindex
X-PUBLISHED-TTL:PT1H
BEGIN:VTIMEZONE
TZID:America/New_York
BEGIN:DAYLIGHT
TZOFFSETFROM:-0500
TZOFFSETTO:-0400
TZNAME:EDT
DTSTART:20210314T070000
END:DAYLIGHT
BEGIN:STANDARD
TZOFFSETFROM:-0400
TZOFFSETTO:-0500
TZNAME:EST
DTSTART:20211107T060000
END:STANDARD
END:VTIMEZONE
BEGIN:VEVENT
DTSTART;TZID=America/New_York:20210814T103000
DTEND;TZID=America/New_York:20210814T123000
DTSTAMP:20260419T181441
CREATED:20210727T103144Z
LAST-MODIFIED:20210727T103144Z
UID:10003126-1628937000-1628944200@lookupcenter.digitalchurch.app
SUMMARY:Community Day
DESCRIPTION:Redemption Church will be hosting a fun event for the community! Join us for coffee\, donuts\, fellowship and a lunch to go! We will give away groceries & cleaning supplies. Kids can make a craft and bounce in our bounce house. Special gift baskets will be raffled off ($750 value). Free Bike repairs! Car Wash by donation (supports Youth Group).\n\nDon’t miss out on this great day!
URL:https://lookupcenter.digitalchurch.app/event/community-day/
END:VEVENT
BEGIN:VEVENT
DTSTART;TZID=America/New_York:20210814T130000
DTEND;TZID=America/New_York:20210814T170000
DTSTAMP:20260419T181441
CREATED:20210727T103529Z
LAST-MODIFIED:20210727T103529Z
UID:10003127-1628946000-1628960400@lookupcenter.digitalchurch.app
SUMMARY:Grandma's Kitchen
DESCRIPTION:Join us to learn how to bake a Texas Sheet cake!
URL:https://lookupcenter.digitalchurch.app/event/grandmas-kitchen-3/
END:VEVENT
END:VCALENDAR