BEGIN:VCALENDAR
VERSION:2.0
PRODID:-//Look Up Center - ECPv6.6.4//NONSGML v1.0//EN
CALSCALE:GREGORIAN
METHOD:PUBLISH
X-WR-CALNAME:Look Up Center
X-ORIGINAL-URL:https://lookupcenter.digitalchurch.app
X-WR-CALDESC:Events for Look Up Center
REFRESH-INTERVAL;VALUE=DURATION:PT1H
X-Robots-Tag:noindex
X-PUBLISHED-TTL:PT1H
BEGIN:VTIMEZONE
TZID:America/New_York
BEGIN:DAYLIGHT
TZOFFSETFROM:-0500
TZOFFSETTO:-0400
TZNAME:EDT
DTSTART:20210314T070000
END:DAYLIGHT
BEGIN:STANDARD
TZOFFSETFROM:-0400
TZOFFSETTO:-0500
TZNAME:EST
DTSTART:20211107T060000
END:STANDARD
END:VTIMEZONE
BEGIN:VEVENT
DTSTART;VALUE=DATE:20210824
DTEND;VALUE=DATE:20210825
DTSTAMP:20260419T181440
CREATED:20210727T103954Z
LAST-MODIFIED:20210727T103954Z
UID:10003129-1629763200-1629849599@lookupcenter.digitalchurch.app
SUMMARY:Urgent Dental Clinic
DESCRIPTION:If you are in need of emergency dental services please call Pathways @ 740-345-4357 to schedule an appointment with us.
URL:https://lookupcenter.digitalchurch.app/event/urgent-dental-clinic-6/
END:VEVENT
END:VCALENDAR