BEGIN:VCALENDAR
VERSION:2.0
PRODID:-//Look Up Center - ECPv6.6.4//NONSGML v1.0//EN
CALSCALE:GREGORIAN
METHOD:PUBLISH
X-ORIGINAL-URL:https://lookupcenter.digitalchurch.app
X-WR-CALDESC:Events for Look Up Center
REFRESH-INTERVAL;VALUE=DURATION:PT1H
X-Robots-Tag:noindex
X-PUBLISHED-TTL:PT1H
BEGIN:VTIMEZONE
TZID:America/New_York
BEGIN:DAYLIGHT
TZOFFSETFROM:-0500
TZOFFSETTO:-0400
TZNAME:EDT
DTSTART:20210314T070000
END:DAYLIGHT
BEGIN:STANDARD
TZOFFSETFROM:-0400
TZOFFSETTO:-0500
TZNAME:EST
DTSTART:20211107T060000
END:STANDARD
END:VTIMEZONE
BEGIN:VEVENT
DTSTART;TZID=America/New_York:20210829T150000
DTEND;TZID=America/New_York:20210829T200000
DTSTAMP:20260419T164100
CREATED:20210727T104450Z
LAST-MODIFIED:20210727T104450Z
UID:10003130-1630249200-1630267200@lookupcenter.digitalchurch.app
SUMMARY:Mission Teen Connect
DESCRIPTION:Mission Teen Connect is a fun night of worship and games for teenagers who are looking for some Christian fellowship.  The goal is to build community among the youth.  Hot dogs and snacks will be provided!
URL:https://lookupcenter.digitalchurch.app/event/mission-teen-connect/
END:VEVENT
END:VCALENDAR