BEGIN:VCALENDAR
VERSION:2.0
PRODID:-//Look Up Center - ECPv6.6.4//NONSGML v1.0//EN
CALSCALE:GREGORIAN
METHOD:PUBLISH
X-ORIGINAL-URL:https://lookupcenter.digitalchurch.app
X-WR-CALDESC:Events for Look Up Center
REFRESH-INTERVAL;VALUE=DURATION:PT1H
X-Robots-Tag:noindex
X-PUBLISHED-TTL:PT1H
BEGIN:VTIMEZONE
TZID:America/New_York
BEGIN:DAYLIGHT
TZOFFSETFROM:-0500
TZOFFSETTO:-0400
TZNAME:EDT
DTSTART:20210314T070000
END:DAYLIGHT
BEGIN:STANDARD
TZOFFSETFROM:-0400
TZOFFSETTO:-0500
TZNAME:EST
DTSTART:20211107T060000
END:STANDARD
END:VTIMEZONE
BEGIN:VEVENT
DTSTART;VALUE=DATE:20210504
DTEND;VALUE=DATE:20210505
DTSTAMP:20260420T003308
CREATED:20210429T135609Z
LAST-MODIFIED:20210429T135609Z
UID:10003083-1620086400-1620172799@lookupcenter.digitalchurch.app
SUMMARY:Emergency Dental Clinic
DESCRIPTION:Call Pathways @ 740-345-6166 to schedule!
URL:https://lookupcenter.digitalchurch.app/event/emergency-dental-clinic/
END:VEVENT
BEGIN:VEVENT
DTSTART;TZID=America/New_York:20210504T090000
DTEND;TZID=America/New_York:20210504T120000
DTSTAMP:20260420T003308
CREATED:20210429T135854Z
LAST-MODIFIED:20210429T135854Z
UID:10003084-1620118800-1620129600@lookupcenter.digitalchurch.app
SUMMARY:Jewelry Extravaganza
DESCRIPTION:Bling on Summer! Come see the beautiful jewelry that will be displayed in our Opportunity Store.
URL:https://lookupcenter.digitalchurch.app/event/jewelry-extravaganza/
END:VEVENT
BEGIN:VEVENT
DTSTART;VALUE=DATE:20210505
DTEND;VALUE=DATE:20210506
DTSTAMP:20260420T003308
CREATED:20210429T140012Z
LAST-MODIFIED:20210429T140012Z
UID:10003085-1620172800-1620259199@lookupcenter.digitalchurch.app
SUMMARY:Vision Clinic
DESCRIPTION:Call Pathways @ 740-345-6166 to schedule an eye exam!
URL:https://lookupcenter.digitalchurch.app/event/vision-clinic/
END:VEVENT
BEGIN:VEVENT
DTSTART;TZID=America/New_York:20210505T120000
DTEND;TZID=America/New_York:20210505T140000
DTSTAMP:20260420T003308
CREATED:20210429T140440Z
LAST-MODIFIED:20210429T140440Z
UID:10003086-1620216000-1620223200@lookupcenter.digitalchurch.app
SUMMARY:Preschool Playdate
DESCRIPTION:Click link to register: \nhttps://www.signupgenius.com/go/9040D4AAFA82AA0FF2-preschool1
URL:https://lookupcenter.digitalchurch.app/event/preschool-playdate/
END:VEVENT
BEGIN:VEVENT
DTSTART;TZID=America/New_York:20210510T173000
DTEND;TZID=America/New_York:20210510T190000
DTSTAMP:20260420T003308
CREATED:20210429T143600Z
LAST-MODIFIED:20210429T143600Z
UID:10003097-1620667800-1620673200@lookupcenter.digitalchurch.app
SUMMARY:Breaking Bread
DESCRIPTION:Join us on a journey through a Bible Study called “Goliath must fall-winning the battle against your giants”.  We will have a time of study/prayer/fellowship/dinner.  Doors open @ 5:30 (no early seating).  Call to RSVP!
URL:https://lookupcenter.digitalchurch.app/event/breaking-bread-3/
END:VEVENT
BEGIN:VEVENT
DTSTART;TZID=America/New_York:20210511T173000
DTEND;TZID=America/New_York:20210511T190000
DTSTAMP:20260420T003308
CREATED:20210429T141209Z
LAST-MODIFIED:20210429T141209Z
UID:10003088-1620754200-1620759600@lookupcenter.digitalchurch.app
SUMMARY:STEP Graduation
DESCRIPTION:Please join us for a ceremony in honor of our students that have completed the program.  We will have dinner\, music\, and a short program.  RSVP to Beth at beth@lookupcenter.org
URL:https://lookupcenter.digitalchurch.app/event/step-graduation/
END:VEVENT
BEGIN:VEVENT
DTSTART;VALUE=DATE:20210514
DTEND;VALUE=DATE:20210515
DTSTAMP:20260420T003308
CREATED:20210429T141435Z
LAST-MODIFIED:20210429T141435Z
UID:10003091-1620950400-1621036799@lookupcenter.digitalchurch.app
SUMMARY:Dental Hygiene Clinic
DESCRIPTION:Need a cleaning?  Call Pathways @ 740-345-6166 to schedule an appointment!
URL:https://lookupcenter.digitalchurch.app/event/dental-hygiene-clinic/
END:VEVENT
BEGIN:VEVENT
DTSTART;TZID=America/New_York:20210515T120000
DTEND;TZID=America/New_York:20210515T153000
DTSTAMP:20260420T003308
CREATED:20210429T141800Z
LAST-MODIFIED:20210429T141800Z
UID:10003093-1621080000-1621092600@lookupcenter.digitalchurch.app
SUMMARY:Grandma's Kitchen
DESCRIPTION:Join us in Grandma’s kitchen and learn how to bake peanut butter cookies from scratch.  Click link to register your family! \nhttps://www.signupgenius.com/go/9040D4AAFA82AA0FF2-grandmas1
URL:https://lookupcenter.digitalchurch.app/event/grandmas-kitchen-2/
END:VEVENT
BEGIN:VEVENT
DTSTART;TZID=America/New_York:20210519T153000
DTEND;TZID=America/New_York:20210519T180000
DTSTAMP:20260420T003308
CREATED:20210429T142207Z
LAST-MODIFIED:20210429T142207Z
UID:10003094-1621438200-1621447200@lookupcenter.digitalchurch.app
SUMMARY:Tie Dye Fun!
DESCRIPTION:Kids ages 10+ join us after school for some tie dye fun!  Bring a shirt and come hang out with us! \nClick link to register: \nhttps://www.signupgenius.com/go/9040D4AAFA82AA0FF2-tiedye
URL:https://lookupcenter.digitalchurch.app/event/tie-dye-fun/
END:VEVENT
BEGIN:VEVENT
DTSTART;VALUE=DATE:20210521
DTEND;VALUE=DATE:20210522
DTSTAMP:20260420T003308
CREATED:20210429T142252Z
LAST-MODIFIED:20210429T142252Z
UID:10003095-1621555200-1621641599@lookupcenter.digitalchurch.app
SUMMARY:Emergency Dental
DESCRIPTION:Call Pathways @ 740-345-6166 to schedule an appointment!
URL:https://lookupcenter.digitalchurch.app/event/emergency-dental/
END:VEVENT
BEGIN:VEVENT
DTSTART;VALUE=DATE:20210528
DTEND;VALUE=DATE:20210529
DTSTAMP:20260420T003308
CREATED:20210429T142423Z
LAST-MODIFIED:20210429T142423Z
UID:10003096-1622160000-1622246399@lookupcenter.digitalchurch.app
SUMMARY:Emergency Dental
DESCRIPTION:Call Pathways @ 740-345-6166 to schedule an appointment!
URL:https://lookupcenter.digitalchurch.app/event/emergency-dental-2/
END:VEVENT
END:VCALENDAR