BEGIN:VCALENDAR
VERSION:2.0
PRODID:-//Look Up Center - ECPv6.6.4//NONSGML v1.0//EN
CALSCALE:GREGORIAN
METHOD:PUBLISH
X-ORIGINAL-URL:https://lookupcenter.digitalchurch.app
X-WR-CALDESC:Events for Look Up Center
REFRESH-INTERVAL;VALUE=DURATION:PT1H
X-Robots-Tag:noindex
X-PUBLISHED-TTL:PT1H
BEGIN:VTIMEZONE
TZID:America/New_York
BEGIN:DAYLIGHT
TZOFFSETFROM:-0500
TZOFFSETTO:-0400
TZNAME:EDT
DTSTART:20210314T070000
END:DAYLIGHT
BEGIN:STANDARD
TZOFFSETFROM:-0400
TZOFFSETTO:-0500
TZNAME:EST
DTSTART:20211107T060000
END:STANDARD
END:VTIMEZONE
BEGIN:VEVENT
DTSTART;TZID=America/New_York:20210603T180000
DTEND;TZID=America/New_York:20210603T190000
DTSTAMP:20260419T195733
CREATED:20210526T120007Z
LAST-MODIFIED:20210526T120007Z
UID:10003098-1622743200-1622746800@lookupcenter.digitalchurch.app
SUMMARY:Cardio Drumming
DESCRIPTION:Feel the beat!  Feel the burn!  Join us for a great workout!  Equipment not provided.  https://www.signupgenius.com/go/9040D4AAFA82AA0FF2-cardio
URL:https://lookupcenter.digitalchurch.app/event/cardio-drumming/2021-06-03/
END:VEVENT
BEGIN:VEVENT
DTSTART;VALUE=DATE:20210608
DTEND;VALUE=DATE:20210609
DTSTAMP:20260419T195733
CREATED:20210527T133527Z
LAST-MODIFIED:20210527T133527Z
UID:10003115-1623110400-1623196799@lookupcenter.digitalchurch.app
SUMMARY:Emergency Dental
DESCRIPTION:Call Pathways @ 740-345-6166 to schedule an appointment!
URL:https://lookupcenter.digitalchurch.app/event/emergency-dental-3/
END:VEVENT
BEGIN:VEVENT
DTSTART;VALUE=DATE:20210608
DTEND;VALUE=DATE:20210609
DTSTAMP:20260419T195733
CREATED:20210527T133908Z
LAST-MODIFIED:20210527T133908Z
UID:10003118-1623110400-1623196799@lookupcenter.digitalchurch.app
SUMMARY:Vision Clinic
DESCRIPTION:Call Pathways @ 740-345-6166 to schedule an eye exam!
URL:https://lookupcenter.digitalchurch.app/event/vision-clinic-2/
END:VEVENT
BEGIN:VEVENT
DTSTART;TZID=America/New_York:20210610T180000
DTEND;TZID=America/New_York:20210610T190000
DTSTAMP:20260419T195733
CREATED:20210526T120007Z
LAST-MODIFIED:20210526T120007Z
UID:10003099-1623348000-1623351600@lookupcenter.digitalchurch.app
SUMMARY:Cardio Drumming
DESCRIPTION:Feel the beat!  Feel the burn!  Join us for a great workout!  Equipment not provided.  https://www.signupgenius.com/go/9040D4AAFA82AA0FF2-cardio
URL:https://lookupcenter.digitalchurch.app/event/cardio-drumming/2021-06-10/
END:VEVENT
BEGIN:VEVENT
DTSTART;TZID=America/New_York:20210614T173000
DTEND;TZID=America/New_York:20210614T193000
DTSTAMP:20260419T195733
CREATED:20210527T132926Z
LAST-MODIFIED:20210527T132926Z
UID:10003108-1623691800-1623699000@lookupcenter.digitalchurch.app
SUMMARY:Breaking Bread
DESCRIPTION:Join us on a journey through a Bible study called “Goliath must fall-winning the battle against your giants”.  We will have a time of study\, prayer\, fellowship and dinner.  Doors open @ 5:30 (no early seating).  Call to RSVP!
URL:https://lookupcenter.digitalchurch.app/event/breaking-bread-4/2021-06-14/
END:VEVENT
BEGIN:VEVENT
DTSTART;TZID=America/New_York:20210616T180000
DTEND;TZID=America/New_York:20210616T200000
DTSTAMP:20260419T195733
CREATED:20210526T134448Z
LAST-MODIFIED:20210526T134448Z
UID:10003107-1623866400-1623873600@lookupcenter.digitalchurch.app
SUMMARY:Down to Earth
DESCRIPTION:In sync with nature!  Join us as we focus on God’s world and creation.  Come learn about the many benefits of dandelions. \nhttps://www.signupgenius.com/go/9040D4AAFA82AA0FF2-down
URL:https://lookupcenter.digitalchurch.app/event/down-to-earth/
END:VEVENT
BEGIN:VEVENT
DTSTART;TZID=America/New_York:20210617T100000
DTEND;TZID=America/New_York:20210617T140000
DTSTAMP:20260419T195733
CREATED:20210527T134953Z
LAST-MODIFIED:20210527T134953Z
UID:10003120-1623924000-1623938400@lookupcenter.digitalchurch.app
SUMMARY:Camp FIRST
DESCRIPTION:Camp First GOOD handout registration \nFREE Day Camp sponsored by First Church\, Newark \n\nFREE lunch (Salvation Army summer meal program) and drink\nAll supplies provided.\nTransportation NOT provided.\nPre-registration is NOT required but helpful for supplies and lunch.\n\n 
URL:https://lookupcenter.digitalchurch.app/event/camp-first/
END:VEVENT
BEGIN:VEVENT
DTSTART;TZID=America/New_York:20210617T180000
DTEND;TZID=America/New_York:20210617T190000
DTSTAMP:20260419T195733
CREATED:20210526T120007Z
LAST-MODIFIED:20210526T120007Z
UID:10003100-1623952800-1623956400@lookupcenter.digitalchurch.app
SUMMARY:Cardio Drumming
DESCRIPTION:Feel the beat!  Feel the burn!  Join us for a great workout!  Equipment not provided.  https://www.signupgenius.com/go/9040D4AAFA82AA0FF2-cardio
URL:https://lookupcenter.digitalchurch.app/event/cardio-drumming/2021-06-17/
END:VEVENT
BEGIN:VEVENT
DTSTART;VALUE=DATE:20210618
DTEND;VALUE=DATE:20210619
DTSTAMP:20260419T195733
CREATED:20210527T133703Z
LAST-MODIFIED:20210527T133703Z
UID:10003116-1623974400-1624060799@lookupcenter.digitalchurch.app
SUMMARY:Emergency Dental
DESCRIPTION:Call Pathways @ 740-345-6166 to schedule an appointment!
URL:https://lookupcenter.digitalchurch.app/event/emergency-dental-4/
END:VEVENT
BEGIN:VEVENT
DTSTART;TZID=America/New_York:20210618T190000
DTEND;TZID=America/New_York:20210618T220000
DTSTAMP:20260419T195733
CREATED:20210527T135622Z
LAST-MODIFIED:20210527T135622Z
UID:10001728-1624042800-1624053600@lookupcenter.digitalchurch.app
SUMMARY:Girls Night Out
DESCRIPTION:
URL:https://lookupcenter.digitalchurch.app/event/girls-night-out/
END:VEVENT
BEGIN:VEVENT
DTSTART;TZID=America/New_York:20210624T180000
DTEND;TZID=America/New_York:20210624T190000
DTSTAMP:20260419T195733
CREATED:20210526T120007Z
LAST-MODIFIED:20210526T120007Z
UID:10003101-1624557600-1624561200@lookupcenter.digitalchurch.app
SUMMARY:Cardio Drumming
DESCRIPTION:Feel the beat!  Feel the burn!  Join us for a great workout!  Equipment not provided.  https://www.signupgenius.com/go/9040D4AAFA82AA0FF2-cardio
URL:https://lookupcenter.digitalchurch.app/event/cardio-drumming/2021-06-24/
END:VEVENT
BEGIN:VEVENT
DTSTART;VALUE=DATE:20210625
DTEND;VALUE=DATE:20210626
DTSTAMP:20260419T195733
CREATED:20210527T133818Z
LAST-MODIFIED:20210527T133818Z
UID:10003117-1624579200-1624665599@lookupcenter.digitalchurch.app
SUMMARY:Emergency Dental
DESCRIPTION:Call Pathways @ 740-345-6166 to schedule an appointment!
URL:https://lookupcenter.digitalchurch.app/event/emergency-dental-5/
END:VEVENT
BEGIN:VEVENT
DTSTART;VALUE=DATE:20210625
DTEND;VALUE=DATE:20210626
DTSTAMP:20260419T195733
CREATED:20210527T134001Z
LAST-MODIFIED:20210527T134001Z
UID:10003119-1624579200-1624665599@lookupcenter.digitalchurch.app
SUMMARY:Hygiene Clinic
DESCRIPTION:Call Pathways @ 740-345-6166 to schedule a teeth cleaning!
URL:https://lookupcenter.digitalchurch.app/event/hygiene-clinic/
END:VEVENT
END:VCALENDAR